BEGIN:VCALENDAR
VERSION:2.0
PRODID:-//hacksw/handcal//NONSGML v1.0//EN
BEGIN:VEVENT
SUMMARY:1er Tour des Interclubs
UID:6e8ebde3-28b2-42e8-a3dc-6bda4a27cca3
DTSTART:20260503T070000Z
DTEND:20260503T160000Z
LOCATION:Localisation   
CATEGORIES:Sportif
STATUS:
URL;VALUE=URI:https://www.acnm-athletisme.com/evenements/2026/05/03/1er-tour-des-interclubs-2443231
END:VEVENT
END:VCALENDAR
